BEGIN:VCALENDAR
VERSION:2.0
PRODID:-//North American University - ECPv6.15.20//NONSGML v1.0//EN
CALSCALE:GREGORIAN
METHOD:PUBLISH
X-WR-CALNAME:North American University
X-ORIGINAL-URL:https://www.na.edu
X-WR-CALDESC:Events for North American University
REFRESH-INTERVAL;VALUE=DURATION:PT1H
X-Robots-Tag:noindex
X-PUBLISHED-TTL:PT1H
BEGIN:VTIMEZONE
TZID:America/Chicago
BEGIN:DAYLIGHT
TZOFFSETFROM:-0600
TZOFFSETTO:-0500
TZNAME:CDT
DTSTART:20240310T080000
END:DAYLIGHT
BEGIN:STANDARD
TZOFFSETFROM:-0500
TZOFFSETTO:-0600
TZNAME:CST
DTSTART:20241103T070000
END:STANDARD
BEGIN:DAYLIGHT
TZOFFSETFROM:-0600
TZOFFSETTO:-0500
TZNAME:CDT
DTSTART:20250309T080000
END:DAYLIGHT
BEGIN:STANDARD
TZOFFSETFROM:-0500
TZOFFSETTO:-0600
TZNAME:CST
DTSTART:20251102T070000
END:STANDARD
BEGIN:DAYLIGHT
TZOFFSETFROM:-0600
TZOFFSETTO:-0500
TZNAME:CDT
DTSTART:20260308T080000
END:DAYLIGHT
BEGIN:STANDARD
TZOFFSETFROM:-0500
TZOFFSETTO:-0600
TZNAME:CST
DTSTART:20261101T070000
END:STANDARD
END:VTIMEZONE
BEGIN:VEVENT
DTSTART;TZID=America/Chicago:20251111T000000
DTEND;TZID=America/Chicago:20251111T235959
DTSTAMP:20260424T161116
CREATED:20251111T181054Z
LAST-MODIFIED:20251111T181054Z
UID:20448-1762819200-1762905599@www.na.edu
SUMMARY:Veterans Day
DESCRIPTION:Veterans Day; tribute and campus closure.
URL:https://www.na.edu/event/veterans-day/
CATEGORIES:UMCR
ATTACH;FMTTYPE=image/jpeg:https://www.na.edu/wp-content/uploads/2025/11/NAU-AIC-Campus-RfKkHc.jpg
END:VEVENT
BEGIN:VEVENT
DTSTART;TZID=America/Chicago:20251110T190000
DTEND;TZID=America/Chicago:20251110T210000
DTSTAMP:20260424T161116
CREATED:20250917T184327Z
LAST-MODIFIED:20251111T181908Z
UID:20041-1762801200-1762808400@www.na.edu
SUMMARY:NAU Stallions Men’s Basketball vs Texas A&M Kingsville – 2025
DESCRIPTION:Follow North American University Men’s Basketball as they take on Texas A&M University – Kingsville on November 10\, 2025\, at 7:00 PM in Kingsville\, TX. Cheer for the NAU Stallions in this 2025-26 season away game. Tickets for $12!
URL:https://www.na.edu/event/nau-stallions-mens-basketball-vs-texas-am-kingsville-2025/
CATEGORIES:Men’s Basketball,Sports
ATTACH;FMTTYPE=image/webp:https://www.na.edu/wp-content/uploads/2025/09/crop-17.webp
END:VEVENT
BEGIN:VEVENT
DTSTART;TZID=America/Chicago:20251105T120000
DTEND;TZID=America/Chicago:20251105T130000
DTSTAMP:20260424T161116
CREATED:20251111T181053Z
LAST-MODIFIED:20251111T181053Z
UID:20447-1762344000-1762347600@www.na.edu
SUMMARY:Speech & Debate Team
DESCRIPTION:Regular Speech & Debate Team meeting and practice.
URL:https://www.na.edu/event/speech-debate-team/
CATEGORIES:Studentlife
ATTACH;FMTTYPE=image/jpeg:https://www.na.edu/wp-content/uploads/2025/10/book3.jpg
END:VEVENT
BEGIN:VEVENT
DTSTART;TZID=America/Chicago:20251105T110000
DTEND;TZID=America/Chicago:20251105T120000
DTSTAMP:20260424T161116
CREATED:20251111T181043Z
LAST-MODIFIED:20251111T181043Z
UID:20446-1762340400-1762344000@www.na.edu
SUMMARY:Nextrepreneur Master Class
DESCRIPTION:Nextrepreneur Master Class: Advanced business planning.
URL:https://www.na.edu/event/nextrepreneur-master-class-2/
CATEGORIES:Studentlife
ATTACH;FMTTYPE=image/jpeg:https://www.na.edu/wp-content/uploads/2025/11/M1A8869-min-scaled-Sp67ur.jpg
END:VEVENT
BEGIN:VEVENT
DTSTART;TZID=America/Chicago:20251105T100000
DTEND;TZID=America/Chicago:20251105T110000
DTSTAMP:20260424T161116
CREATED:20251111T181042Z
LAST-MODIFIED:20251111T181042Z
UID:20445-1762336800-1762340400@www.na.edu
SUMMARY:Conflict Resolution
DESCRIPTION:Conflict Resolution workshop: Skills for interpersonal disputes.
URL:https://www.na.edu/event/conflict-resolution/
CATEGORIES:Academics
ATTACH;FMTTYPE=image/jpeg:https://www.na.edu/wp-content/uploads/2025/11/6-min-scaled-gAXfQ5.jpg
END:VEVENT
BEGIN:VEVENT
DTSTART;TZID=America/Chicago:20251104T193000
DTEND;TZID=America/Chicago:20251104T213000
DTSTAMP:20260424T161116
CREATED:20250917T184325Z
LAST-MODIFIED:20250918T151229Z
UID:20040-1762284600-1762291800@www.na.edu
SUMMARY:NAU Stallions Men’s Basketball vs Paul Quinn College – 2025
DESCRIPTION:Watch North American University Men’s Basketball compete against Paul Quinn College on November 4\, 2025\, at 7:30 PM in Dallas\, TX. Support the NAU Stallions in this 2025-26 season away game. Tickets for $12!
URL:https://www.na.edu/event/nau-stallions-mens-basketball-vs-paul-quinn-college-2025/
CATEGORIES:Men’s Basketball,Sports
ATTACH;FMTTYPE=image/webp:https://www.na.edu/wp-content/uploads/2025/09/crop-16.webp
END:VEVENT
BEGIN:VEVENT
DTSTART;TZID=America/Chicago:20251103T000000
DTEND;TZID=America/Chicago:20251103T235959
DTSTAMP:20260424T161116
CREATED:20251111T181040Z
LAST-MODIFIED:20251111T181040Z
UID:20444-1762128000-1762214399@www.na.edu
SUMMARY:Spring Registration Starts
DESCRIPTION:Notification: Spring registration starts; priority for upperclassmen.
URL:https://www.na.edu/event/spring-registration-starts/
CATEGORIES:Academics
ATTACH;FMTTYPE=image/jpeg:https://www.na.edu/wp-content/uploads/2025/11/NAU-AIC-Campus-RfKkHc.jpg
END:VEVENT
BEGIN:VEVENT
DTSTART;TZID=America/Chicago:20251101T000000
DTEND;TZID=America/Chicago:20251101T235959
DTSTAMP:20260424T161116
CREATED:20251111T181039Z
LAST-MODIFIED:20251111T181039Z
UID:20443-1761955200-1762041599@www.na.edu
SUMMARY:First-Gen College Celebration Day
DESCRIPTION:First-Gen College Celebration Day; recognition event.
URL:https://www.na.edu/event/first-gen-college-celebration-day/
CATEGORIES:UMCR
ATTACH;FMTTYPE=image/jpeg:https://www.na.edu/wp-content/uploads/2025/11/NAU-AIC-Campus-RfKkHc.jpg
END:VEVENT
BEGIN:VEVENT
DTSTART;TZID=America/Chicago:20251101T000000
DTEND;TZID=America/Chicago:20251101T000000
DTSTAMP:20260424T161116
CREATED:20250918T153943Z
LAST-MODIFIED:20250918T154512Z
UID:20137-1761955200-1761955200@www.na.edu
SUMMARY:NAU Stallions Women’s Cross-Country at Red River Athletic Conference Meet – 2025
DESCRIPTION:Join North American University Women’s Cross-Country team at the Red River Athletic Conference Meet on November 1\, 2025\, in Stafford\, TX. Cheer for the NAU Stallions in this key 2025-26 season championship event.
URL:https://www.na.edu/event/nau-stallions-womens-cross-country-at-red-river-athletic-conference-meet-2025/
CATEGORIES:Sports
ATTACH;FMTTYPE=image/webp:https://www.na.edu/wp-content/uploads/2025/09/crop-2.webp
END:VEVENT
BEGIN:VEVENT
DTSTART;TZID=America/Chicago:20251101T000000
DTEND;TZID=America/Chicago:20251101T000000
DTSTAMP:20260424T161116
CREATED:20250918T153634Z
LAST-MODIFIED:20250918T154839Z
UID:20128-1761955200-1761955200@www.na.edu
SUMMARY:NAU Stallions Men’s Cross-Country at Red River Athletic Conference Meet – 2025
DESCRIPTION:Join North American University Men’s Cross-Country team at the Red River Athletic Conference Meet on November 1\, 2025\, in Stafford\, TX. Cheer for the NAU Stallions in this key 2025-26 season championship event.
URL:https://www.na.edu/event/nau-stallions-mens-cross-country-at-red-river-athletic-conference-meet-2025/
CATEGORIES:Men’s Cross-Country,Sports
ATTACH;FMTTYPE=image/webp:https://www.na.edu/wp-content/uploads/2025/09/crop-2.webp
END:VEVENT
BEGIN:VEVENT
DTSTART;TZID=America/Chicago:20251030T190000
DTEND;TZID=America/Chicago:20251030T210000
DTSTAMP:20260424T161117
CREATED:20250917T184324Z
LAST-MODIFIED:20250918T151228Z
UID:20039-1761850800-1761858000@www.na.edu
SUMMARY:NAU Stallions Men’s Basketball vs College of Bible Studies – 2025
DESCRIPTION:Catch North American University Men’s Basketball against College of Bible Studies on October 30\, 2025\, at 7:00 PM in Stafford\, TX. Support the NAU Stallions in this exciting 2025-26 season home game. Tickets available for $12!
URL:https://www.na.edu/event/nau-stallions-mens-basketball-vs-college-of-bible-studies-2025/
CATEGORIES:Men’s Basketball,Sports
ATTACH;FMTTYPE=image/webp:https://www.na.edu/wp-content/uploads/2025/09/crop-14.webp
END:VEVENT
BEGIN:VEVENT
DTSTART;TZID=America/Chicago:20251029T190000
DTEND;TZID=America/Chicago:20251029T210000
DTSTAMP:20260424T161117
CREATED:20251111T181038Z
LAST-MODIFIED:20251111T181038Z
UID:20442-1761764400-1761771600@www.na.edu
SUMMARY:Halloween Party
DESCRIPTION:Halloween Party: Costumes\, games\, and treats.
URL:https://www.na.edu/event/halloween-party/
CATEGORIES:Studentlife
ATTACH;FMTTYPE=image/jpeg:https://www.na.edu/wp-content/uploads/2025/11/5-min-scaled-clhEfc.jpg
END:VEVENT
BEGIN:VEVENT
DTSTART;TZID=America/Chicago:20251029T100000
DTEND;TZID=America/Chicago:20251029T130000
DTSTAMP:20260424T161117
CREATED:20251111T181028Z
LAST-MODIFIED:20251111T181028Z
UID:20441-1761732000-1761742800@www.na.edu
SUMMARY:Advice for a Lemonade
DESCRIPTION:Advice for a Lemonade: Building a small business from scratch.
URL:https://www.na.edu/event/advice-for-a-lemonade/
CATEGORIES:Studentlife
ATTACH;FMTTYPE=image/jpeg:https://www.na.edu/wp-content/uploads/2025/10/main.jpg
END:VEVENT
BEGIN:VEVENT
DTSTART;TZID=America/Chicago:20251028T190000
DTEND;TZID=America/Chicago:20251028T210000
DTSTAMP:20260424T161117
CREATED:20250917T182641Z
LAST-MODIFIED:20250918T151227Z
UID:20032-1761678000-1761685200@www.na.edu
SUMMARY:NAU Stallions Men’s Basketball vs Westgate Christian – 2025
DESCRIPTION:Support North American University Men’s Basketball as they face Westgate Christian University on October 28\, 2025\, at 7:00 PM in Stafford\, TX. Join the NAU Stallions for this thrilling 2025-26 season matchup. Tickets only $12!
URL:https://www.na.edu/event/nau-stallions-mens-basketball-vs-westgate-christian-2025/
CATEGORIES:Men’s Basketball,Sports
ATTACH;FMTTYPE=image/webp:https://www.na.edu/wp-content/uploads/2025/09/crop-11.webp
END:VEVENT
BEGIN:VEVENT
DTSTART;TZID=America/Chicago:20251028T174000
DTEND;TZID=America/Chicago:20251028T235900
DTSTAMP:20260424T161117
CREATED:20251111T181027Z
LAST-MODIFIED:20251111T181027Z
UID:20440-1761673200-1761695940@www.na.edu
SUMMARY:AMC Halloween Movie Night
DESCRIPTION:AMC Halloween Movie Night: Spooky films and popcorn.
URL:https://www.na.edu/event/amc-halloween-movie-night/
CATEGORIES:Studentlife
ATTACH;FMTTYPE=image/jpeg:https://www.na.edu/wp-content/uploads/2025/11/NAU-AIC-Campus-RfKkHc.jpg
END:VEVENT
BEGIN:VEVENT
DTSTART;TZID=America/Chicago:20251028T113000
DTEND;TZID=America/Chicago:20251028T150000
DTSTAMP:20260424T161117
CREATED:20251111T181026Z
LAST-MODIFIED:20251111T181026Z
UID:20439-1761651000-1761663600@www.na.edu
SUMMARY:Career Fair
DESCRIPTION:Annual Career Fair: Meet recruiters from top companies.
URL:https://www.na.edu/event/career-fair/
CATEGORIES:Career Office
ATTACH;FMTTYPE=image/jpeg:https://www.na.edu/wp-content/uploads/2025/08/NAU-ACCSC-Renewal.jpg
END:VEVENT
BEGIN:VEVENT
DTSTART;TZID=America/Chicago:20251025T130000
DTEND;TZID=America/Chicago:20251025T150000
DTSTAMP:20260424T161117
CREATED:20251111T181024Z
LAST-MODIFIED:20251111T181024Z
UID:20438-1761397200-1761404400@www.na.edu
SUMMARY:Coffee Connections
DESCRIPTION:Coffee Connections: Informal networking with alumni.
URL:https://www.na.edu/event/coffee-connections/
CATEGORIES:Career Office
ATTACH;FMTTYPE=image/jpeg:https://www.na.edu/wp-content/uploads/2025/11/M1A8917-min-scaled-is9bTx.jpg
END:VEVENT
BEGIN:VEVENT
DTSTART;TZID=America/Chicago:20251025T100000
DTEND;TZID=America/Chicago:20251025T120000
DTSTAMP:20260424T161117
CREATED:20251111T181023Z
LAST-MODIFIED:20251111T181023Z
UID:20437-1761386400-1761393600@www.na.edu
SUMMARY:WIB BofA Field Trip
DESCRIPTION:WIB field trip to Bank of America for career exposure.
URL:https://www.na.edu/event/wib-bofa-field-trip/
CATEGORIES:Studentlife
ATTACH;FMTTYPE=image/jpeg:https://www.na.edu/wp-content/uploads/2025/11/NAU-AIC-Campus-RfKkHc.jpg
END:VEVENT
BEGIN:VEVENT
DTSTART;TZID=America/Chicago:20251024T000000
DTEND;TZID=America/Chicago:20251024T235959
DTSTAMP:20260424T161117
CREATED:20251111T181012Z
LAST-MODIFIED:20251111T181012Z
UID:20436-1761264000-1761350399@www.na.edu
SUMMARY:Fall Graduation Application Due
DESCRIPTION:Reminder: Fall graduation application due; submit online.
URL:https://www.na.edu/event/fall-graduation-application-due/
CATEGORIES:Academics
ATTACH;FMTTYPE=image/jpeg:https://www.na.edu/wp-content/uploads/2025/11/NAU-AIC-Campus-RfKkHc.jpg
END:VEVENT
BEGIN:VEVENT
DTSTART;TZID=America/Chicago:20251023T150000
DTEND;TZID=America/Chicago:20251023T190000
DTSTAMP:20260424T161117
CREATED:20251111T181011Z
LAST-MODIFIED:20251111T181011Z
UID:20435-1761231600-1761246000@www.na.edu
SUMMARY:Art Club Fine Arts Museum Trip
DESCRIPTION:Art Club trip to the fine arts museum; transportation provided.
URL:https://www.na.edu/event/art-club-fine-arts-museum-trip/
CATEGORIES:Studentlife
ATTACH;FMTTYPE=image/jpeg:https://www.na.edu/wp-content/uploads/2025/11/NAU-AIC-Campus-RfKkHc.jpg
END:VEVENT
BEGIN:VEVENT
DTSTART;TZID=America/Chicago:20251023T143000
DTEND;TZID=America/Chicago:20251023T153000
DTSTAMP:20260424T161117
CREATED:20251111T181010Z
LAST-MODIFIED:20251111T181010Z
UID:20434-1761229800-1761233400@www.na.edu
SUMMARY:Job Search Strategies
DESCRIPTION:Job Search Strategies: Effective techniques for finding opportunities.
URL:https://www.na.edu/event/job-search-strategies/
CATEGORIES:Career Office
ATTACH;FMTTYPE=image/jpeg:https://www.na.edu/wp-content/uploads/2025/11/M1A8869-min-scaled-Sp67ur.jpg
END:VEVENT
BEGIN:VEVENT
DTSTART;TZID=America/Chicago:20251022T150000
DTEND;TZID=America/Chicago:20251022T160000
DTSTAMP:20260424T161117
CREATED:20251111T181009Z
LAST-MODIFIED:20251111T181009Z
UID:20433-1761145200-1761148800@www.na.edu
SUMMARY:ACM-W Career Building
DESCRIPTION:ACM-W Career Building: Tech industry insights for women.
URL:https://www.na.edu/event/acm-w-career-building/
CATEGORIES:Studentlife
ATTACH;FMTTYPE=image/jpeg:https://www.na.edu/wp-content/uploads/2025/11/6-min-scaled-gAXfQ5.jpg
END:VEVENT
BEGIN:VEVENT
DTSTART;TZID=America/Chicago:20251022T130000
DTEND;TZID=America/Chicago:20251022T150000
DTSTAMP:20260424T161117
CREATED:20251111T181008Z
LAST-MODIFIED:20251111T181008Z
UID:20432-1761138000-1761145200@www.na.edu
SUMMARY:Vision Board Workshop
DESCRIPTION:Vision Board Workshop: Create your future goals visually.
URL:https://www.na.edu/event/vision-board-workshop/
CATEGORIES:Studentlife
ATTACH;FMTTYPE=image/jpeg:https://www.na.edu/wp-content/uploads/2025/11/5-min-scaled-clhEfc.jpg
END:VEVENT
BEGIN:VEVENT
DTSTART;TZID=America/Chicago:20251022T113000
DTEND;TZID=America/Chicago:20251022T123000
DTSTAMP:20260424T161117
CREATED:20251111T180958Z
LAST-MODIFIED:20251111T180958Z
UID:20431-1761132600-1761136200@www.na.edu
SUMMARY:WIB Seminar Series
DESCRIPTION:WIB Seminar Series: Networking and professional development.
URL:https://www.na.edu/event/wib-seminar-series-2/
CATEGORIES:Studentlife
ATTACH;FMTTYPE=image/jpeg:https://www.na.edu/wp-content/uploads/2025/11/M1A8917-min-scaled-is9bTx.jpg
END:VEVENT
BEGIN:VEVENT
DTSTART;TZID=America/Chicago:20251021T153000
DTEND;TZID=America/Chicago:20251021T170000
DTSTAMP:20260424T161117
CREATED:20251111T180957Z
LAST-MODIFIED:20251111T180957Z
UID:20430-1761060600-1761066000@www.na.edu
SUMMARY:Nextrepreneur Master Class
DESCRIPTION:Nextrepreneur Master Class: Startup strategies and pitching.
URL:https://www.na.edu/event/nextrepreneur-master-class/
CATEGORIES:Studentlife
ATTACH;FMTTYPE=image/jpeg:https://www.na.edu/wp-content/uploads/2025/11/NAU-AIC-Campus-RfKkHc.jpg
END:VEVENT
BEGIN:VEVENT
DTSTART;TZID=America/Chicago:20251021T153000
DTEND;TZID=America/Chicago:20251021T170000
DTSTAMP:20260424T161117
CREATED:20251111T180956Z
LAST-MODIFIED:20251111T180956Z
UID:20429-1761060600-1761066000@www.na.edu
SUMMARY:Passport to Africa
DESCRIPTION:Passport to Africa: Talks\, food\, and cultural showcase.
URL:https://www.na.edu/event/passport-to-africa/
CATEGORIES:Studentlife
ATTACH;FMTTYPE=image/jpeg:https://www.na.edu/wp-content/uploads/2025/11/M1A8869-min-scaled-Sp67ur.jpg
END:VEVENT
BEGIN:VEVENT
DTSTART;TZID=America/Chicago:20251020T160000
DTEND;TZID=America/Chicago:20251020T170000
DTSTAMP:20260424T161117
CREATED:20251111T180954Z
LAST-MODIFIED:20251111T180954Z
UID:20428-1760976000-1760979600@www.na.edu
SUMMARY:Resume Building
DESCRIPTION:Resume building session with templates and reviews.
URL:https://www.na.edu/event/resume-building/
CATEGORIES:Career Office
ATTACH;FMTTYPE=image/jpeg:https://www.na.edu/wp-content/uploads/2025/11/6-min-scaled-gAXfQ5.jpg
END:VEVENT
BEGIN:VEVENT
DTSTART;TZID=America/Chicago:20251017T000000
DTEND;TZID=America/Chicago:20251017T000000
DTSTAMP:20260424T161117
CREATED:20250918T153938Z
LAST-MODIFIED:20250918T154623Z
UID:20136-1760659200-1760659200@www.na.edu
SUMMARY:NAU Stallions Women’s Cross-Country at Texas A&M – 2025
DESCRIPTION:Watch North American University Women’s Cross-Country team compete at Texas A&M University on October 17\, 2025\, at 400 Bizzell St\, College Station\, TX. Support the NAU Stallions in this 2025-26 season meet.
URL:https://www.na.edu/event/nau-stallions-womens-cross-country-at-texas-am-2025/
CATEGORIES:Sports
ATTACH;FMTTYPE=image/webp:https://www.na.edu/wp-content/uploads/2025/09/crop-1.webp
END:VEVENT
BEGIN:VEVENT
DTSTART;TZID=America/Chicago:20251017T000000
DTEND;TZID=America/Chicago:20251017T000000
DTSTAMP:20260424T161117
CREATED:20250918T153627Z
LAST-MODIFIED:20250918T154817Z
UID:20127-1760659200-1760659200@www.na.edu
SUMMARY:NAU Stallions Men’s Cross-Country at Texas A&M – 2025
DESCRIPTION:Watch North American University Men’s Cross-Country team compete at Texas A&M University on October 17\, 2025\, at 400 Bizzell St\, College Station\, TX. Support the NAU Stallions in this 2025-26 season meet.
URL:https://www.na.edu/event/nau-stallions-mens-cross-country-at-texas-am-2025/
CATEGORIES:Men’s Cross-Country,Sports
ATTACH;FMTTYPE=image/webp:https://www.na.edu/wp-content/uploads/2025/09/crop-3.webp
END:VEVENT
BEGIN:VEVENT
DTSTART;TZID=America/Chicago:20251016T190000
DTEND;TZID=America/Chicago:20251016T220000
DTSTAMP:20260424T161117
CREATED:20251111T180953Z
LAST-MODIFIED:20251111T180953Z
UID:20427-1760641200-1760652000@www.na.edu
SUMMARY:Hispanic Heritage Month
DESCRIPTION:Closing event for Hispanic Heritage Month with performances.
URL:https://www.na.edu/event/hispanic-heritage-month-2/
CATEGORIES:Studentlife
ATTACH;FMTTYPE=image/jpeg:https://www.na.edu/wp-content/uploads/2025/11/5-min-scaled-clhEfc.jpg
END:VEVENT
END:VCALENDAR