BEGIN:VCALENDAR
VERSION:2.0
PRODID:-//North American University - ECPv6.15.20//NONSGML v1.0//EN
CALSCALE:GREGORIAN
METHOD:PUBLISH
X-WR-CALNAME:North American University
X-ORIGINAL-URL:https://www.na.edu
X-WR-CALDESC:Events for North American University
REFRESH-INTERVAL;VALUE=DURATION:PT1H
X-Robots-Tag:noindex
X-PUBLISHED-TTL:PT1H
BEGIN:VTIMEZONE
TZID:America/Chicago
BEGIN:DAYLIGHT
TZOFFSETFROM:-0600
TZOFFSETTO:-0500
TZNAME:CDT
DTSTART:20240310T080000
END:DAYLIGHT
BEGIN:STANDARD
TZOFFSETFROM:-0500
TZOFFSETTO:-0600
TZNAME:CST
DTSTART:20241103T070000
END:STANDARD
BEGIN:DAYLIGHT
TZOFFSETFROM:-0600
TZOFFSETTO:-0500
TZNAME:CDT
DTSTART:20250309T080000
END:DAYLIGHT
BEGIN:STANDARD
TZOFFSETFROM:-0500
TZOFFSETTO:-0600
TZNAME:CST
DTSTART:20251102T070000
END:STANDARD
BEGIN:DAYLIGHT
TZOFFSETFROM:-0600
TZOFFSETTO:-0500
TZNAME:CDT
DTSTART:20260308T080000
END:DAYLIGHT
BEGIN:STANDARD
TZOFFSETFROM:-0500
TZOFFSETTO:-0600
TZNAME:CST
DTSTART:20261101T070000
END:STANDARD
END:VTIMEZONE
BEGIN:VEVENT
DTSTART;TZID=America/Chicago:20251021T153000
DTEND;TZID=America/Chicago:20251021T170000
DTSTAMP:20260424T183932
CREATED:20251111T180957Z
LAST-MODIFIED:20251111T180957Z
UID:20430-1761060600-1761066000@www.na.edu
SUMMARY:Nextrepreneur Master Class
DESCRIPTION:Nextrepreneur Master Class: Startup strategies and pitching.
URL:https://www.na.edu/event/nextrepreneur-master-class/
CATEGORIES:Studentlife
ATTACH;FMTTYPE=image/jpeg:https://www.na.edu/wp-content/uploads/2025/11/NAU-AIC-Campus-RfKkHc.jpg
END:VEVENT
BEGIN:VEVENT
DTSTART;TZID=America/Chicago:20251021T153000
DTEND;TZID=America/Chicago:20251021T170000
DTSTAMP:20260424T183933
CREATED:20251111T180956Z
LAST-MODIFIED:20251111T180956Z
UID:20429-1761060600-1761066000@www.na.edu
SUMMARY:Passport to Africa
DESCRIPTION:Passport to Africa: Talks\, food\, and cultural showcase.
URL:https://www.na.edu/event/passport-to-africa/
CATEGORIES:Studentlife
ATTACH;FMTTYPE=image/jpeg:https://www.na.edu/wp-content/uploads/2025/11/M1A8869-min-scaled-Sp67ur.jpg
END:VEVENT
BEGIN:VEVENT
DTSTART;TZID=America/Chicago:20251020T160000
DTEND;TZID=America/Chicago:20251020T170000
DTSTAMP:20260424T183933
CREATED:20251111T180954Z
LAST-MODIFIED:20251111T180954Z
UID:20428-1760976000-1760979600@www.na.edu
SUMMARY:Resume Building
DESCRIPTION:Resume building session with templates and reviews.
URL:https://www.na.edu/event/resume-building/
CATEGORIES:Career Office
ATTACH;FMTTYPE=image/jpeg:https://www.na.edu/wp-content/uploads/2025/11/6-min-scaled-gAXfQ5.jpg
END:VEVENT
BEGIN:VEVENT
DTSTART;TZID=America/Chicago:20251017T000000
DTEND;TZID=America/Chicago:20251017T000000
DTSTAMP:20260424T183933
CREATED:20250918T153938Z
LAST-MODIFIED:20250918T154623Z
UID:20136-1760659200-1760659200@www.na.edu
SUMMARY:NAU Stallions Women’s Cross-Country at Texas A&M – 2025
DESCRIPTION:Watch North American University Women’s Cross-Country team compete at Texas A&M University on October 17\, 2025\, at 400 Bizzell St\, College Station\, TX. Support the NAU Stallions in this 2025-26 season meet.
URL:https://www.na.edu/event/nau-stallions-womens-cross-country-at-texas-am-2025/
CATEGORIES:Sports
ATTACH;FMTTYPE=image/webp:https://www.na.edu/wp-content/uploads/2025/09/crop-1.webp
END:VEVENT
BEGIN:VEVENT
DTSTART;TZID=America/Chicago:20251017T000000
DTEND;TZID=America/Chicago:20251017T000000
DTSTAMP:20260424T183933
CREATED:20250918T153627Z
LAST-MODIFIED:20250918T154817Z
UID:20127-1760659200-1760659200@www.na.edu
SUMMARY:NAU Stallions Men’s Cross-Country at Texas A&M – 2025
DESCRIPTION:Watch North American University Men’s Cross-Country team compete at Texas A&M University on October 17\, 2025\, at 400 Bizzell St\, College Station\, TX. Support the NAU Stallions in this 2025-26 season meet.
URL:https://www.na.edu/event/nau-stallions-mens-cross-country-at-texas-am-2025/
CATEGORIES:Men’s Cross-Country,Sports
ATTACH;FMTTYPE=image/webp:https://www.na.edu/wp-content/uploads/2025/09/crop-3.webp
END:VEVENT
BEGIN:VEVENT
DTSTART;TZID=America/Chicago:20251016T190000
DTEND;TZID=America/Chicago:20251016T220000
DTSTAMP:20260424T183933
CREATED:20251111T180953Z
LAST-MODIFIED:20251111T180953Z
UID:20427-1760641200-1760652000@www.na.edu
SUMMARY:Hispanic Heritage Month
DESCRIPTION:Closing event for Hispanic Heritage Month with performances.
URL:https://www.na.edu/event/hispanic-heritage-month-2/
CATEGORIES:Studentlife
ATTACH;FMTTYPE=image/jpeg:https://www.na.edu/wp-content/uploads/2025/11/5-min-scaled-clhEfc.jpg
END:VEVENT
BEGIN:VEVENT
DTSTART;TZID=America/Chicago:20251016T000000
DTEND;TZID=America/Chicago:20251016T235959
DTSTAMP:20260424T183933
CREATED:20251111T180943Z
LAST-MODIFIED:20251111T180943Z
UID:20426-1760572800-1760659199@www.na.edu
SUMMARY:Third Installment Due
DESCRIPTION:Notification: Third installment due; pay by deadline to avoid fees.
URL:https://www.na.edu/event/third-installment-due/
CATEGORIES:Academics
ATTACH;FMTTYPE=image/jpeg:https://www.na.edu/wp-content/uploads/2025/11/NAU-AIC-Campus-RfKkHc.jpg
END:VEVENT
BEGIN:VEVENT
DTSTART;TZID=America/Chicago:20251011T000000
DTEND;TZID=America/Chicago:20251011T000000
DTSTAMP:20260424T183933
CREATED:20250918T153937Z
LAST-MODIFIED:20250918T154658Z
UID:20135-1760140800-1760140800@www.na.edu
SUMMARY:NAU Stallions Women’s Cross-Country at Dallas Baptist – 2025
DESCRIPTION:Follow North American University Women’s Cross-Country team as they compete at Dallas Baptist University on October 11\, 2025\, in Dallas\, TX. Cheer for the NAU Stallions in this 2025-26 season meet.
URL:https://www.na.edu/event/nau-stallions-womens-cross-country-at-dallas-baptist-2025/
CATEGORIES:Sports
ATTACH;FMTTYPE=image/webp:https://www.na.edu/wp-content/uploads/2025/09/crop-5.webp
END:VEVENT
BEGIN:VEVENT
DTSTART;TZID=America/Chicago:20251011T000000
DTEND;TZID=America/Chicago:20251011T000000
DTSTAMP:20260424T183933
CREATED:20250918T153626Z
LAST-MODIFIED:20251009T171745Z
UID:20126-1760140800-1760140800@www.na.edu
SUMMARY:NAU Stallions Men’s Cross-Country at Dallas Baptist – 2025
DESCRIPTION:Follow North American University Men’s Cross-Country team as they compete at Dallas Baptist University on October 11\, 2025\, in Dallas\, TX. Cheer for the NAU Stallions in this 2025-26 season meet.
URL:https://www.na.edu/event/nau-stallions-mens-cross-country-at-dallas-baptist-2025/
CATEGORIES:Men’s Cross-Country,Sports
ATTACH;FMTTYPE=image/webp:https://www.na.edu/wp-content/uploads/2025/09/crop-2.webp
END:VEVENT
BEGIN:VEVENT
DTSTART;TZID=America/Chicago:20251010T000000
DTEND;TZID=America/Chicago:20251010T235959
DTSTAMP:20260424T183933
CREATED:20251111T180942Z
LAST-MODIFIED:20251111T180942Z
UID:20425-1760054400-1760140799@www.na.edu
SUMMARY:World Mental Health Day
DESCRIPTION:World Mental Health Day; resources and support post.
URL:https://www.na.edu/event/world-mental-health-day/
CATEGORIES:UMCR
ATTACH;FMTTYPE=image/jpeg:https://www.na.edu/wp-content/uploads/2025/11/NAU-AIC-Campus-RfKkHc.jpg
END:VEVENT
BEGIN:VEVENT
DTSTART;TZID=America/Chicago:20251007T130000
DTEND;TZID=America/Chicago:20251007T140000
DTSTAMP:20260424T183933
CREATED:20251111T180940Z
LAST-MODIFIED:20251111T180940Z
UID:20424-1759842000-1759845600@www.na.edu
SUMMARY:Paper Crafts Workshop Session 5
DESCRIPTION:Paper crafts workshop; session 1-2 PM.
URL:https://www.na.edu/event/paper-crafts-workshop-session-5/
CATEGORIES:Library
ATTACH;FMTTYPE=image/jpeg:https://www.na.edu/wp-content/uploads/2025/10/book4.jpg
END:VEVENT
BEGIN:VEVENT
DTSTART;TZID=America/Chicago:20251007T120000
DTEND;TZID=America/Chicago:20251007T130000
DTSTAMP:20260424T183933
CREATED:20251111T180939Z
LAST-MODIFIED:20251111T180939Z
UID:20423-1759838400-1759842000@www.na.edu
SUMMARY:Paper Crafts Workshop Session 4
DESCRIPTION:Paper crafts workshop; session 12-1 PM.
URL:https://www.na.edu/event/paper-crafts-workshop-session-4/
CATEGORIES:Library
ATTACH;FMTTYPE=image/jpeg:https://www.na.edu/wp-content/uploads/2025/10/book1.jpg
END:VEVENT
BEGIN:VEVENT
DTSTART;TZID=America/Chicago:20251007T110000
DTEND;TZID=America/Chicago:20251007T120000
DTSTAMP:20260424T183933
CREATED:20251111T180938Z
LAST-MODIFIED:20251111T180938Z
UID:20422-1759834800-1759838400@www.na.edu
SUMMARY:Paper Crafts Workshop Session 3
DESCRIPTION:Paper crafts workshop; session 11 AM-12 PM.
URL:https://www.na.edu/event/paper-crafts-workshop-session-3/
CATEGORIES:Library
ATTACH;FMTTYPE=image/jpeg:https://www.na.edu/wp-content/uploads/2024/11/FreeBooks.jpg
END:VEVENT
BEGIN:VEVENT
DTSTART;TZID=America/Chicago:20251007T100000
DTEND;TZID=America/Chicago:20251007T110000
DTSTAMP:20260424T183933
CREATED:20251111T180928Z
LAST-MODIFIED:20251111T180928Z
UID:20421-1759831200-1759834800@www.na.edu
SUMMARY:Paper Crafts Workshop Session 2
DESCRIPTION:Paper crafts workshop; session 10-11 AM.
URL:https://www.na.edu/event/paper-crafts-workshop-session-2/
CATEGORIES:Library
ATTACH;FMTTYPE=image/jpeg:https://www.na.edu/wp-content/uploads/2025/10/book1.jpg
END:VEVENT
BEGIN:VEVENT
DTSTART;TZID=America/Chicago:20251007T090000
DTEND;TZID=America/Chicago:20251007T100000
DTSTAMP:20260424T183933
CREATED:20251111T180926Z
LAST-MODIFIED:20251111T180926Z
UID:20420-1759827600-1759831200@www.na.edu
SUMMARY:Paper Crafts Workshop Session 1
DESCRIPTION:Paper crafts workshop; session 9-10 AM.
URL:https://www.na.edu/event/paper-crafts-workshop-session-1/
CATEGORIES:Library
ATTACH;FMTTYPE=image/jpeg:https://www.na.edu/wp-content/uploads/2024/11/FreeBooks.jpg
END:VEVENT
BEGIN:VEVENT
DTSTART;TZID=America/Chicago:20251003T190000
DTEND;TZID=America/Chicago:20251003T210000
DTSTAMP:20260424T183933
CREATED:20250917T184322Z
LAST-MODIFIED:20250918T151225Z
UID:20038-1759518000-1759525200@www.na.edu
SUMMARY:NAU Stallions Men’s Basketball vs Guest Team – 2025 Season Opener
DESCRIPTION:Join North American University Men’s Basketball for their 2025-26 season opener against a guest team on October 3\, 2025\, at 7:00 PM at The P.A.R.C.\, 402 Eldridge Road\, Sugar Land\, TX. Cheer for the NAU Stallions and get your tickets for just $12!
URL:https://www.na.edu/event/nau-stallions-mens-basketball-vs-guest-team-2025-season-opener/
CATEGORIES:Men’s Basketball,Sports
ATTACH;FMTTYPE=image/jpeg:https://www.na.edu/wp-content/uploads/2024/09/Clarksigns.jpg
END:VEVENT
BEGIN:VEVENT
DTSTART;TZID=America/Chicago:20251001T140000
DTEND;TZID=America/Chicago:20251001T160000
DTSTAMP:20260424T183933
CREATED:20251111T180924Z
LAST-MODIFIED:20251111T180924Z
UID:20417-1759327200-1759334400@www.na.edu
SUMMARY:Welcome BBQ Fall 2025
DESCRIPTION:Fall welcome BBQ with food and networking.
URL:https://www.na.edu/event/welcome-bbq-fall-2025/
CATEGORIES:Studentlife
ATTACH;FMTTYPE=image/jpeg:https://www.na.edu/wp-content/uploads/2025/11/NAU-AIC-Campus-RfKkHc.jpg
END:VEVENT
BEGIN:VEVENT
DTSTART;TZID=America/Chicago:20251001T000000
DTEND;TZID=America/Chicago:20251001T235959
DTSTAMP:20260424T183933
CREATED:20251111T180925Z
LAST-MODIFIED:20251111T180925Z
UID:20418-1759276800-1759363199@www.na.edu
SUMMARY:International Coffee Day
DESCRIPTION:International Coffee Day; coffee tasting post.
URL:https://www.na.edu/event/international-coffee-day/
CATEGORIES:UMCR
ATTACH;FMTTYPE=image/jpeg:https://www.na.edu/wp-content/uploads/2025/11/NAU-AIC-Campus-RfKkHc.jpg
END:VEVENT
BEGIN:VEVENT
DTSTART;TZID=America/Chicago:20250925T143000
DTEND;TZID=America/Chicago:20250925T153000
DTSTAMP:20260424T183933
CREATED:20251111T180923Z
LAST-MODIFIED:20251111T180923Z
UID:20416-1758810600-1758814200@www.na.edu
SUMMARY:WIB Seminar Series
DESCRIPTION:Women in Business seminar on leadership and careers.
URL:https://www.na.edu/event/wib-seminar-series/
CATEGORIES:Studentlife
ATTACH;FMTTYPE=image/jpeg:https://www.na.edu/wp-content/uploads/2025/11/M1A8917-min-scaled-is9bTx.jpg
END:VEVENT
BEGIN:VEVENT
DTSTART;TZID=America/Chicago:20250925T080000
DTEND;TZID=America/Chicago:20250925T100000
DTSTAMP:20260424T183933
CREATED:20250918T153935Z
LAST-MODIFIED:20250918T153935Z
UID:20134-1758787200-1758794400@www.na.edu
SUMMARY:NAU Stallions Women’s Cross-Country at Prairie View A&M – 2025
DESCRIPTION:Watch North American University Women’s Cross-Country team race at Prairie View A&M University on September 25\, 2025\, at 8:00 AM in Prairie View\, TX. Support the NAU Stallions in this 2025-26 season meet.
URL:https://www.na.edu/event/nau-stallions-womens-cross-country-at-prairie-view-am-2025/
CATEGORIES:Sports
ATTACH;FMTTYPE=image/webp:https://www.na.edu/wp-content/uploads/2025/09/crop-6.webp
END:VEVENT
BEGIN:VEVENT
DTSTART;TZID=America/Chicago:20250925T080000
DTEND;TZID=America/Chicago:20250925T100000
DTSTAMP:20260424T183933
CREATED:20250918T153624Z
LAST-MODIFIED:20250918T153624Z
UID:20125-1758787200-1758794400@www.na.edu
SUMMARY:NAU Stallions Men’s Cross-Country at Prairie View A&M – 2025
DESCRIPTION:Watch North American University Men’s Cross-Country team race at Prairie View A&M University on September 25\, 2025\, at 8:00 AM in Prairie View\, TX. Support the NAU Stallions in this 2025-26 season meet.
URL:https://www.na.edu/event/nau-stallions-mens-cross-country-at-prairie-view-am-2025/
CATEGORIES:Men’s Cross-Country,Sports
ATTACH;FMTTYPE=image/webp:https://www.na.edu/wp-content/uploads/2025/09/crop.webp
END:VEVENT
BEGIN:VEVENT
DTSTART;TZID=America/Chicago:20250921T000000
DTEND;TZID=America/Chicago:20250921T235959
DTSTAMP:20260424T183933
CREATED:20251111T180912Z
LAST-MODIFIED:20251111T180912Z
UID:20414-1758412800-1758499199@www.na.edu
SUMMARY:International Day of Peace
DESCRIPTION:International Day of Peace; global awareness post.
URL:https://www.na.edu/event/international-day-of-peace/
CATEGORIES:UMCR
ATTACH;FMTTYPE=image/jpeg:https://www.na.edu/wp-content/uploads/2025/11/NAU-AIC-Campus-RfKkHc.jpg
END:VEVENT
BEGIN:VEVENT
DTSTART;TZID=America/Chicago:20250918T140000
DTEND;TZID=America/Chicago:20250918T150000
DTSTAMP:20260424T183933
CREATED:20251111T180911Z
LAST-MODIFIED:20251111T180911Z
UID:20413-1758204000-1758207600@www.na.edu
SUMMARY:Admin-Student Meeting
DESCRIPTION:Open discussion meeting for admin-student feedback.
URL:https://www.na.edu/event/admin-student-meeting/
CATEGORIES:Studentlife
ATTACH;FMTTYPE=image/jpeg:https://www.na.edu/wp-content/uploads/2025/11/M1A8869-min-scaled-Sp67ur.jpg
END:VEVENT
BEGIN:VEVENT
DTSTART;TZID=America/Chicago:20250916T120000
DTEND;TZID=America/Chicago:20250916T140000
DTSTAMP:20260424T183933
CREATED:20251111T180910Z
LAST-MODIFIED:20251111T180910Z
UID:20412-1758024000-1758031200@www.na.edu
SUMMARY:Free Book Fair
DESCRIPTION:Free book fair offering donated books to students.
URL:https://www.na.edu/event/free-book-fair/
CATEGORIES:Library
ATTACH;FMTTYPE=image/jpeg:https://www.na.edu/wp-content/uploads/2025/10/book5.jpg
END:VEVENT
BEGIN:VEVENT
DTSTART;TZID=America/Chicago:20250915T130000
DTEND;TZID=America/Chicago:20250915T150000
DTSTAMP:20260424T183933
CREATED:20251111T180909Z
LAST-MODIFIED:20251111T180909Z
UID:20411-1757941200-1757948400@www.na.edu
SUMMARY:Coffee Shop Opening Ceremony
DESCRIPTION:Grand opening ceremony for the campus coffee shop with free samples.
URL:https://www.na.edu/event/coffee-shop-opening-ceremony/
CATEGORIES:UMCR
ATTACH;FMTTYPE=image/jpeg:https://www.na.edu/wp-content/uploads/2024/05/cinco5.jpg
END:VEVENT
BEGIN:VEVENT
DTSTART;TZID=America/Chicago:20250915T000000
DTEND;TZID=America/Chicago:20251015T235959
DTSTAMP:20260424T183933
CREATED:20251111T180908Z
LAST-MODIFIED:20251111T180908Z
UID:20410-1757894400-1760572799@www.na.edu
SUMMARY:Hispanic Heritage Month
DESCRIPTION:Hispanic Heritage Month; series of cultural events and posts.
URL:https://www.na.edu/event/hispanic-heritage-month/
CATEGORIES:UMCR
ATTACH;FMTTYPE=image/jpeg:https://www.na.edu/wp-content/uploads/2025/11/NAU-AIC-Campus-RfKkHc.jpg
END:VEVENT
BEGIN:VEVENT
DTSTART;TZID=America/Chicago:20250912T080000
DTEND;TZID=America/Chicago:20250912T100000
DTSTAMP:20260424T183933
CREATED:20250918T153934Z
LAST-MODIFIED:20250918T153934Z
UID:20133-1757664000-1757671200@www.na.edu
SUMMARY:NAU Stallions Women’s Cross-Country at Rice University – 2025
DESCRIPTION:Support North American University Women’s Cross-Country team as they race at Rice University on September 12\, 2025\, at 8:00 AM in Houston\, TX. Join the NAU Stallions for this exciting 2025-26 season meet.
URL:https://www.na.edu/event/nau-stallions-womens-cross-country-at-rice-university-2025/
CATEGORIES:Sports
ATTACH;FMTTYPE=image/webp:https://www.na.edu/wp-content/uploads/2025/09/crop-7.webp
END:VEVENT
BEGIN:VEVENT
DTSTART;TZID=America/Chicago:20250912T080000
DTEND;TZID=America/Chicago:20250912T100000
DTSTAMP:20260424T183933
CREATED:20250918T153623Z
LAST-MODIFIED:20250918T153623Z
UID:20124-1757664000-1757671200@www.na.edu
SUMMARY:NAU Stallions Men’s Cross-Country at Rice University – 2025
DESCRIPTION:Support North American University Men’s Cross-Country team as they race at Rice University on September 12\, 2025\, at 8:00 AM in Houston\, TX. Join the NAU Stallions for this exciting 2025-26 season meet.
URL:https://www.na.edu/event/nau-stallions-mens-cross-country-at-rice-university-2025/
CATEGORIES:Men’s Cross-Country,Sports
ATTACH;FMTTYPE=image/webp:https://www.na.edu/wp-content/uploads/2025/09/crop-9.webp
END:VEVENT
BEGIN:VEVENT
DTSTART;TZID=America/Chicago:20250911T143000
DTEND;TZID=America/Chicago:20250911T153000
DTSTAMP:20260424T183933
CREATED:20251111T180904Z
LAST-MODIFIED:20251111T180904Z
UID:20407-1757601000-1757604600@www.na.edu
SUMMARY:LinkedIn Profile Building Workshop
DESCRIPTION:Build your professional LinkedIn profile with expert tips.
URL:https://www.na.edu/event/linkedin-profile-building-workshop/
CATEGORIES:Career Office
ATTACH;FMTTYPE=image/jpeg:https://www.na.edu/wp-content/uploads/2025/11/6-min-scaled-gAXfQ5.jpg
END:VEVENT
BEGIN:VEVENT
DTSTART;TZID=America/Chicago:20250909T140000
DTEND;TZID=America/Chicago:20250909T150000
DTSTAMP:20260424T183933
CREATED:20251111T180903Z
LAST-MODIFIED:20251111T180903Z
UID:20405-1757426400-1757430000@www.na.edu
SUMMARY:Club Opening Workshop
DESCRIPTION:Club opening workshop to help students start new clubs.
URL:https://www.na.edu/event/club-opening-workshop/
CATEGORIES:Studentlife
ATTACH;FMTTYPE=image/jpeg:https://www.na.edu/wp-content/uploads/2025/11/NAU-AIC-Campus-rlSa6s.jpg
END:VEVENT
END:VCALENDAR